BEGIN:VCALENDAR
VERSION:2.0
PRODID:-//Walter Hill - ECPv6.15.18//NONSGML v1.0//EN
CALSCALE:GREGORIAN
METHOD:PUBLISH
X-ORIGINAL-URL:https://walterhillchurch.com
X-WR-CALDESC:Events for Walter Hill
REFRESH-INTERVAL;VALUE=DURATION:PT1H
X-Robots-Tag:noindex
X-PUBLISHED-TTL:PT1H
BEGIN:VTIMEZONE
TZID:America/Chicago
BEGIN:DAYLIGHT
TZOFFSETFROM:-0600
TZOFFSETTO:-0500
TZNAME:CDT
DTSTART:20230312T080000
END:DAYLIGHT
BEGIN:STANDARD
TZOFFSETFROM:-0500
TZOFFSETTO:-0600
TZNAME:CST
DTSTART:20231105T070000
END:STANDARD
BEGIN:DAYLIGHT
TZOFFSETFROM:-0600
TZOFFSETTO:-0500
TZNAME:CDT
DTSTART:20240310T080000
END:DAYLIGHT
BEGIN:STANDARD
TZOFFSETFROM:-0500
TZOFFSETTO:-0600
TZNAME:CST
DTSTART:20241103T070000
END:STANDARD
BEGIN:DAYLIGHT
TZOFFSETFROM:-0600
TZOFFSETTO:-0500
TZNAME:CDT
DTSTART:20250309T080000
END:DAYLIGHT
BEGIN:STANDARD
TZOFFSETFROM:-0500
TZOFFSETTO:-0600
TZNAME:CST
DTSTART:20251102T070000
END:STANDARD
BEGIN:DAYLIGHT
TZOFFSETFROM:-0600
TZOFFSETTO:-0500
TZNAME:CDT
DTSTART:20260308T080000
END:DAYLIGHT
BEGIN:STANDARD
TZOFFSETFROM:-0500
TZOFFSETTO:-0600
TZNAME:CST
DTSTART:20261101T070000
END:STANDARD
END:VTIMEZONE
BEGIN:VEVENT
DTSTART;TZID=America/Chicago:20250608T153000
DTEND;TZID=America/Chicago:20250608T170000
DTSTAMP:20260419T071724
CREATED:20250520T182432Z
LAST-MODIFIED:20250520T182432Z
UID:10000529-1749396600-1749402000@walterhillchurch.com
SUMMARY:Wedding Shower for Olivia Dickerson
DESCRIPTION:Wedding Shower for Olivia Dickerson
URL:https://walterhillchurch.com/event/wedding-shower-for-olivia-dickerson/
LOCATION:Church Building\, 7277 Lebanon Rd\, Murfreesboro\, TN\, 37129\, United States
CATEGORIES:Church
END:VEVENT
BEGIN:VEVENT
DTSTART;TZID=America/Chicago:20250607T170000
DTEND;TZID=America/Chicago:20250607T211500
DTSTAMP:20260419T071724
CREATED:20250520T182315Z
LAST-MODIFIED:20250520T182315Z
UID:10000528-1749315600-1749330900@walterhillchurch.com
SUMMARY:Teens - Family Scavenger Hunt
DESCRIPTION:Teens – Family Scavenger Hunt
URL:https://walterhillchurch.com/event/teens-family-scavenger-hunt/
LOCATION:Church Building\, 7277 Lebanon Rd\, Murfreesboro\, TN\, 37129\, United States
CATEGORIES:Youth
END:VEVENT
BEGIN:VEVENT
DTSTART;TZID=America/Chicago:20250604T183000
DTEND;TZID=America/Chicago:20250604T210000
DTSTAMP:20260419T071724
CREATED:20250520T182038Z
LAST-MODIFIED:20250520T182038Z
UID:10000527-1749061800-1749070800@walterhillchurch.com
SUMMARY:VBS
DESCRIPTION:VBS
URL:https://walterhillchurch.com/event/vbs-4/
LOCATION:Church Building\, 7277 Lebanon Rd\, Murfreesboro\, TN\, 37129\, United States
CATEGORIES:Church
END:VEVENT
BEGIN:VEVENT
DTSTART;TZID=America/Chicago:20250603T183000
DTEND;TZID=America/Chicago:20250603T210000
DTSTAMP:20260419T071724
CREATED:20250520T181903Z
LAST-MODIFIED:20250520T181903Z
UID:10000526-1748975400-1748984400@walterhillchurch.com
SUMMARY:VBS
DESCRIPTION:VBS
URL:https://walterhillchurch.com/event/vbs-3/
LOCATION:Church Building\, 7277 Lebanon Rd\, Murfreesboro\, TN\, 37129\, United States
CATEGORIES:Church
END:VEVENT
BEGIN:VEVENT
DTSTART;TZID=America/Chicago:20250603T111500
DTEND;TZID=America/Chicago:20250603T121500
DTSTAMP:20260419T071724
CREATED:20250520T183304Z
LAST-MODIFIED:20250520T183304Z
UID:10000534-1748949300-1748952900@walterhillchurch.com
SUMMARY:ROMEO Lunch
DESCRIPTION:Romeo Lunch @ Farmers Family Restaurant
URL:https://walterhillchurch.com/event/romeo-lunch-4/
LOCATION:Church Building\, 7277 Lebanon Rd\, Murfreesboro\, TN\, 37129\, United States
CATEGORIES:Elderly,Primetimers
END:VEVENT
BEGIN:VEVENT
DTSTART;TZID=America/Chicago:20250602T183000
DTEND;TZID=America/Chicago:20250602T210000
DTSTAMP:20260419T071724
CREATED:20250520T181805Z
LAST-MODIFIED:20250520T181805Z
UID:10000525-1748889000-1748898000@walterhillchurch.com
SUMMARY:VBS
DESCRIPTION:VBS
URL:https://walterhillchurch.com/event/vbs-2/
LOCATION:Church Building\, 7277 Lebanon Rd\, Murfreesboro\, TN\, 37129\, United States
CATEGORIES:Church
END:VEVENT
BEGIN:VEVENT
DTSTART;TZID=America/Chicago:20250601T183000
DTEND;TZID=America/Chicago:20250601T210000
DTSTAMP:20260419T071724
CREATED:20250520T181634Z
LAST-MODIFIED:20250520T181634Z
UID:10000524-1748802600-1748811600@walterhillchurch.com
SUMMARY:VBS
DESCRIPTION:VBS
URL:https://walterhillchurch.com/event/vbs/
LOCATION:Church Building\, 7277 Lebanon Rd\, Murfreesboro\, TN\, 37129\, United States
CATEGORIES:Church
END:VEVENT
BEGIN:VEVENT
DTSTART;TZID=America/Chicago:20250413T090000
DTEND;TZID=America/Chicago:20250413T140000
DTSTAMP:20260419T071724
CREATED:20250307T151839Z
LAST-MODIFIED:20250307T151839Z
UID:10000522-1744534800-1744552800@walterhillchurch.com
SUMMARY:Gospel Meeting
DESCRIPTION:Gospel Meeting
URL:https://walterhillchurch.com/event/gospel-meeting-3/
LOCATION:Church Building\, 7277 Lebanon Rd\, Murfreesboro\, TN\, 37129\, United States
CATEGORIES:Church
END:VEVENT
BEGIN:VEVENT
DTSTART;TZID=America/Chicago:20250412T190000
DTEND;TZID=America/Chicago:20250412T200000
DTSTAMP:20260419T071724
CREATED:20250307T151754Z
LAST-MODIFIED:20250307T151754Z
UID:10000521-1744484400-1744488000@walterhillchurch.com
SUMMARY:Gospel Meeting
DESCRIPTION:Gospel Meeting
URL:https://walterhillchurch.com/event/gospel-meeting-2/
LOCATION:Church Building\, 7277 Lebanon Rd\, Murfreesboro\, TN\, 37129\, United States
CATEGORIES:Church
END:VEVENT
BEGIN:VEVENT
DTSTART;TZID=America/Chicago:20250412T100000
DTEND;TZID=America/Chicago:20250412T120000
DTSTAMP:20260419T071724
CREATED:20250324T170309Z
LAST-MODIFIED:20250324T170309Z
UID:10000523-1744452000-1744459200@walterhillchurch.com
SUMMARY:Easter Egg Hunt
DESCRIPTION:Easter Egg Hunt will be held on Saturday\, April 12\, at 10:00 a.m. \n 
URL:https://walterhillchurch.com/event/easter-egg-hunt/
LOCATION:Church Building\, 7277 Lebanon Rd\, Murfreesboro\, TN\, 37129\, United States
CATEGORIES:Church
END:VEVENT
BEGIN:VEVENT
DTSTART;TZID=America/Chicago:20250411T190000
DTEND;TZID=America/Chicago:20250411T200000
DTSTAMP:20260419T071724
CREATED:20250307T151616Z
LAST-MODIFIED:20250307T151616Z
UID:10000520-1744398000-1744401600@walterhillchurch.com
SUMMARY:Gospel Meeting
DESCRIPTION:Gospel Meeting
URL:https://walterhillchurch.com/event/gospel-meeting/
LOCATION:Church Building\, 7277 Lebanon Rd\, Murfreesboro\, TN\, 37129\, United States
CATEGORIES:Church
END:VEVENT
BEGIN:VEVENT
DTSTART;TZID=America/Chicago:20250116T180000
DTEND;TZID=America/Chicago:20250116T190000
DTSTAMP:20260419T071724
CREATED:20241212T173454Z
LAST-MODIFIED:20241212T173454Z
UID:10000517-1737050400-1737054000@walterhillchurch.com
SUMMARY:Women's Bible Study
DESCRIPTION:Women’s Bible Study
URL:https://walterhillchurch.com/event/womens-bible-study-2/
LOCATION:Church Building\, 7277 Lebanon Rd\, Murfreesboro\, TN\, 37129\, United States
CATEGORIES:Church
END:VEVENT
BEGIN:VEVENT
DTSTART;VALUE=DATE:20250111
DTEND;VALUE=DATE:20250112
DTSTAMP:20260419T071724
CREATED:20241212T173320Z
LAST-MODIFIED:20241212T173320Z
UID:10000516-1736553600-1736639999@walterhillchurch.com
SUMMARY:Men's Leadership Day
DESCRIPTION:Men’s Leadership Day at WH
URL:https://walterhillchurch.com/event/mens-leadership-day/
LOCATION:Church Building\, 7277 Lebanon Rd\, Murfreesboro\, TN\, 37129\, United States
CATEGORIES:Church
END:VEVENT
BEGIN:VEVENT
DTSTART;TZID=America/Chicago:20250107T111500
DTEND;TZID=America/Chicago:20250107T120000
DTSTAMP:20260419T071724
CREATED:20241212T173714Z
LAST-MODIFIED:20241212T173714Z
UID:10000518-1736248500-1736251200@walterhillchurch.com
SUMMARY:ROMEO Lunch
DESCRIPTION:ROMEO Lunch
URL:https://walterhillchurch.com/event/romeo-lunch-3/
LOCATION:Church Building\, 7277 Lebanon Rd\, Murfreesboro\, TN\, 37129\, United States
CATEGORIES:Church
END:VEVENT
BEGIN:VEVENT
DTSTART;VALUE=DATE:20241224
DTEND;VALUE=DATE:20241226
DTSTAMP:20260419T071724
CREATED:20240201T192918Z
LAST-MODIFIED:20240201T192918Z
UID:10000434-1734998400-1735171199@walterhillchurch.com
SUMMARY:Christmas/Office Closed
DESCRIPTION:
URL:https://walterhillchurch.com/event/christmas-office-closed/
LOCATION:Church Building\, 7277 Lebanon Rd\, Murfreesboro\, TN\, 37129\, United States
END:VEVENT
BEGIN:VEVENT
DTSTART;VALUE=DATE:20241223
DTEND;VALUE=DATE:20250108
DTSTAMP:20260419T071724
CREATED:20241212T173847Z
LAST-MODIFIED:20241212T173847Z
UID:10000519-1734912000-1736294399@walterhillchurch.com
SUMMARY:Winter Break for Schools
DESCRIPTION:Winter Break for Schools
URL:https://walterhillchurch.com/event/winter-break-for-schools/
LOCATION:Church Building\, 7277 Lebanon Rd\, Murfreesboro\, TN\, 37129\, United States
CATEGORIES:Church
END:VEVENT
BEGIN:VEVENT
DTSTART;VALUE=DATE:20241214
DTEND;VALUE=DATE:20241215
DTSTAMP:20260419T071724
CREATED:20240131T184716Z
LAST-MODIFIED:20240131T184716Z
UID:10000400-1734134400-1734220799@walterhillchurch.com
SUMMARY:Ladies Christmas Party
DESCRIPTION:
URL:https://walterhillchurch.com/event/ladies-christmas-party/
LOCATION:Church Building\, 7277 Lebanon Rd\, Murfreesboro\, TN\, 37129\, United States
CATEGORIES:Church,WinGS
END:VEVENT
BEGIN:VEVENT
DTSTART;TZID=America/Chicago:20241212T180000
DTEND;TZID=America/Chicago:20241212T193000
DTSTAMP:20260419T071724
CREATED:20240731T175911Z
LAST-MODIFIED:20240731T175911Z
UID:10000507-1734026400-1734031800@walterhillchurch.com
SUMMARY:Men's Bible Study
DESCRIPTION:Men’s Bible Study
URL:https://walterhillchurch.com/event/mens-bible-study-4/
LOCATION:Church Building\, 7277 Lebanon Rd\, Murfreesboro\, TN\, 37129\, United States
CATEGORIES:Church
END:VEVENT
BEGIN:VEVENT
DTSTART;VALUE=DATE:20241207
DTEND;VALUE=DATE:20241208
DTSTAMP:20260419T071724
CREATED:20240201T191424Z
LAST-MODIFIED:20240201T191424Z
UID:10000433-1733529600-1733615999@walterhillchurch.com
SUMMARY:Cookies with Santa
DESCRIPTION:
URL:https://walterhillchurch.com/event/cookies-with-santa-2/
LOCATION:Church Building\, 7277 Lebanon Rd\, Murfreesboro\, TN\, 37129\, United States
CATEGORIES:Church,Club456,WinGS,Youth
END:VEVENT
BEGIN:VEVENT
DTSTART;TZID=America/Chicago:20241203T111500
DTEND;TZID=America/Chicago:20241203T123000
DTSTAMP:20260419T071724
CREATED:20240201T191301Z
LAST-MODIFIED:20240201T191301Z
UID:10000432-1733224500-1733229000@walterhillchurch.com
SUMMARY:ROMEO Lunch
DESCRIPTION:
URL:https://walterhillchurch.com/event/romeo-lunch-11/
LOCATION:Church Building\, 7277 Lebanon Rd\, Murfreesboro\, TN\, 37129\, United States
CATEGORIES:Church,Elderly
END:VEVENT
BEGIN:VEVENT
DTSTART;VALUE=DATE:20241128
DTEND;VALUE=DATE:20241130
DTSTAMP:20260419T071724
CREATED:20240201T191203Z
LAST-MODIFIED:20240201T191203Z
UID:10000431-1732752000-1732924799@walterhillchurch.com
SUMMARY:Thanksgiving/Office Closed
DESCRIPTION:
URL:https://walterhillchurch.com/event/thanksgiving-office-closed/
LOCATION:Church Building\, 7277 Lebanon Rd\, Murfreesboro\, TN\, 37129\, United States
CATEGORIES:Church
END:VEVENT
BEGIN:VEVENT
DTSTART;TZID=America/Chicago:20241114T111500
DTEND;TZID=America/Chicago:20241114T123000
DTSTAMP:20260419T071724
CREATED:20240731T175454Z
LAST-MODIFIED:20240731T175454Z
UID:10000506-1731582900-1731587400@walterhillchurch.com
SUMMARY:Men's Bible Study
DESCRIPTION:Men’s Bible Study
URL:https://walterhillchurch.com/event/mens-bible-study-3/
LOCATION:Church Building\, 7277 Lebanon Rd\, Murfreesboro\, TN\, 37129\, United States
CATEGORIES:Church
END:VEVENT
BEGIN:VEVENT
DTSTART;TZID=America/Chicago:20241110T180000
DTEND;TZID=America/Chicago:20241110T193000
DTSTAMP:20260419T071724
CREATED:20240917T171427Z
LAST-MODIFIED:20240917T171427Z
UID:10000513-1731261600-1731267000@walterhillchurch.com
SUMMARY:Veterans' Appreciation Event
DESCRIPTION:Veterans’ Appreciation Event @ church building after PM services.
URL:https://walterhillchurch.com/event/veterans-appreciation-event/
LOCATION:Church Building\, 7277 Lebanon Rd\, Murfreesboro\, TN\, 37129\, United States
CATEGORIES:Church
END:VEVENT
BEGIN:VEVENT
DTSTART;TZID=America/Chicago:20241108T180000
DTEND;TZID=America/Chicago:20241108T220000
DTSTAMP:20260419T071724
CREATED:20240917T171544Z
LAST-MODIFIED:20240917T171544Z
UID:10000514-1731088800-1731103200@walterhillchurch.com
SUMMARY:Annual Gospel Singing
DESCRIPTION:Annual Gospel Singing @ Walter Hill.
URL:https://walterhillchurch.com/event/annual-gospel-singing-2/
LOCATION:Church Building\, 7277 Lebanon Rd\, Murfreesboro\, TN\, 37129\, United States
CATEGORIES:Church
END:VEVENT
BEGIN:VEVENT
DTSTART;VALUE=DATE:20241108
DTEND;VALUE=DATE:20241109
DTSTAMP:20260419T071724
CREATED:20240731T175319Z
LAST-MODIFIED:20240731T175325Z
UID:10000505-1731024000-1731110399@walterhillchurch.com
SUMMARY:Annual Gospel Singing
DESCRIPTION:Annual Gospel Singing @ WH
URL:https://walterhillchurch.com/event/annual-gospel-singing/
LOCATION:Church Building\, 7277 Lebanon Rd\, Murfreesboro\, TN\, 37129\, United States
CATEGORIES:Church
END:VEVENT
BEGIN:VEVENT
DTSTART;TZID=America/Chicago:20241105T111500
DTEND;TZID=America/Chicago:20241105T123000
DTSTAMP:20260419T071724
CREATED:20240731T175227Z
LAST-MODIFIED:20240731T175227Z
UID:10000504-1730805300-1730809800@walterhillchurch.com
SUMMARY:ROMEO Lunch
DESCRIPTION:ROMEO Lunch
URL:https://walterhillchurch.com/event/romeo-lunch-2/
LOCATION:Church Building\, 7277 Lebanon Rd\, Murfreesboro\, TN\, 37129\, United States
CATEGORIES:Church
END:VEVENT
BEGIN:VEVENT
DTSTART;TZID=America/Chicago:20241105T111500
DTEND;TZID=America/Chicago:20241105T123000
DTSTAMP:20260419T071724
CREATED:20240201T191046Z
LAST-MODIFIED:20240201T191046Z
UID:10000430-1730805300-1730809800@walterhillchurch.com
SUMMARY:ROMEO Lunch
DESCRIPTION:
URL:https://walterhillchurch.com/event/romeo-lunch-10/
LOCATION:Church Building\, 7277 Lebanon Rd\, Murfreesboro\, TN\, 37129\, United States
CATEGORIES:Church,Elderly
END:VEVENT
BEGIN:VEVENT
DTSTART;TZID=America/Chicago:20241103T143000
DTEND;TZID=America/Chicago:20241103T160000
DTSTAMP:20260419T071724
CREATED:20240917T171244Z
LAST-MODIFIED:20240917T171244Z
UID:10000512-1730644200-1730649600@walterhillchurch.com
SUMMARY:Wedding Shower for Donavon Hamlett & Kara
DESCRIPTION:Wedding Shower for Donavon Hamlett & Kara @ church building.
URL:https://walterhillchurch.com/event/wedding-shower-for-donavon-hamlett-kara/
LOCATION:Church Building\, 7277 Lebanon Rd\, Murfreesboro\, TN\, 37129\, United States
CATEGORIES:Church
END:VEVENT
BEGIN:VEVENT
DTSTART;TZID=America/Chicago:20241027T190000
DTEND;TZID=America/Chicago:20241027T210000
DTSTAMP:20260419T071724
CREATED:20240917T171056Z
LAST-MODIFIED:20240917T171056Z
UID:10000511-1730055600-1730062800@walterhillchurch.com
SUMMARY:Fall Fellowship
DESCRIPTION:Fall Fellowship
URL:https://walterhillchurch.com/event/fall-fellowship/
LOCATION:Church Building\, 7277 Lebanon Rd\, Murfreesboro\, TN\, 37129\, United States
CATEGORIES:Church
END:VEVENT
BEGIN:VEVENT
DTSTART;VALUE=DATE:20241014
DTEND;VALUE=DATE:20241015
DTSTAMP:20260419T071724
CREATED:20240201T190807Z
LAST-MODIFIED:20240201T190807Z
UID:10000428-1728864000-1728950399@walterhillchurch.com
SUMMARY:Columbus Day/Office Closed
DESCRIPTION:
URL:https://walterhillchurch.com/event/columbus-day-office-closed/
LOCATION:Church Building\, 7277 Lebanon Rd\, Murfreesboro\, TN\, 37129\, United States
CATEGORIES:Church
END:VEVENT
END:VCALENDAR